BEGIN:VCALENDAR
VERSION:2.0
PRODID:-//Browns Creek Sailing Association - ECPv6.15.20//NONSGML v1.0//EN
CALSCALE:GREGORIAN
METHOD:PUBLISH
X-ORIGINAL-URL:https://brownscreeksailingassociation.org
X-WR-CALDESC:Events for Browns Creek Sailing Association
REFRESH-INTERVAL;VALUE=DURATION:PT1H
X-Robots-Tag:noindex
X-PUBLISHED-TTL:PT1H
BEGIN:VTIMEZONE
TZID:America/Chicago
BEGIN:DAYLIGHT
TZOFFSETFROM:-0600
TZOFFSETTO:-0500
TZNAME:CDT
DTSTART:20230312T080000
END:DAYLIGHT
BEGIN:STANDARD
TZOFFSETFROM:-0500
TZOFFSETTO:-0600
TZNAME:CST
DTSTART:20231105T070000
END:STANDARD
BEGIN:DAYLIGHT
TZOFFSETFROM:-0600
TZOFFSETTO:-0500
TZNAME:CDT
DTSTART:20240310T080000
END:DAYLIGHT
BEGIN:STANDARD
TZOFFSETFROM:-0500
TZOFFSETTO:-0600
TZNAME:CST
DTSTART:20241103T070000
END:STANDARD
BEGIN:DAYLIGHT
TZOFFSETFROM:-0600
TZOFFSETTO:-0500
TZNAME:CDT
DTSTART:20250309T080000
END:DAYLIGHT
BEGIN:STANDARD
TZOFFSETFROM:-0500
TZOFFSETTO:-0600
TZNAME:CST
DTSTART:20251102T070000
END:STANDARD
END:VTIMEZONE
BEGIN:VEVENT
DTSTART;TZID=America/Chicago:20240421T150000
DTEND;TZID=America/Chicago:20240421T150000
DTSTAMP:20260423T174724
CREATED:20240117T150118Z
LAST-MODIFIED:20240216T194535Z
UID:2262-1713711600-1713711600@brownscreeksailingassociation.org
SUMMARY:Spring Series Race #4
DESCRIPTION:Fleets Racing: Dinghy & Keelboat
URL:https://brownscreeksailingassociation.org/event/spring-series-race-4/
LOCATION:North Alabama Sailing Marina\, 100 Browns Creek Rd\, Guntersville\, AL\, 35976\, United States
CATEGORIES:Master Calendar,Race Calendar
END:VEVENT
BEGIN:VEVENT
DTSTART;VALUE=DATE:20240427
DTEND;VALUE=DATE:20240429
DTSTAMP:20260423T174724
CREATED:20240109T224039Z
LAST-MODIFIED:20240116T173143Z
UID:2129-1714176000-1714348799@brownscreeksailingassociation.org
SUMMARY:BCSA Sailing 101 Spring Class-Week 1
DESCRIPTION:Launches from North Alabama Sailing Marina in Guntersville\, AL  \nDates:  April 27\, 28 and May 4\, 5\n\nClass meets 10 am – 4 pm Saturdays and 1 pm – 4 pm Sundays\nSaturday schedule:\n\n\n\n\n10 am – noon classroom sailing basics\nNoon – lunch on the deck\n1pm – 4 pm sailing training on helm and crew with instructor on board\n\n\n\n\nSunday schedule:\n\n\n\n\n1 pm – 4 pm sailing training on helm and crew with instructor on board\n\n\n\n\nStudents need to attend all four days of instruction.\nStudents need to bring a Type III life vest\n\n  \nCost: $250/$350 couple\, class fee includes 2024 BCSA membership \nClass size is limited\n\n\n\n\n\n\n\n\n\n\n\n\n\n\n\n\n\n\n\n\n\n\n\n\nRSVP to Susan Wilson: suhurwil@gmail.com\nSend check payable to BCSA to Susan Wilson\, 100 Browns Creek Road\, Guntersville\, AL 35976
URL:https://brownscreeksailingassociation.org/event/bcsa-sailing-101-spring-class/
LOCATION:North Alabama Sailing Marina\, 100 Browns Creek Rd\, Guntersville\, AL\, 35976\, United States
CATEGORIES:Education Calendar,Master Calendar
ATTACH;FMTTYPE=image/jpeg:https://brownscreeksailingassociation.org/wp-content/uploads/2024/01/IMG_2623-rotated.jpg
ORGANIZER;CN="Susan Wilson":MAILTO:suhurwil@aol.com
END:VEVENT
BEGIN:VEVENT
DTSTART;TZID=America/Chicago:20240427T100000
DTEND;TZID=America/Chicago:20240427T100000
DTSTAMP:20260423T174724
CREATED:20240411T135648Z
LAST-MODIFIED:20240411T135648Z
UID:3103-1714212000-1714212000@brownscreeksailingassociation.org
SUMMARY:LGSC overnight raft up-Short Creek
DESCRIPTION:LGSC overnight raft up-Short Creek
URL:https://brownscreeksailingassociation.org/event/lgsc-overnight-raft-up-short-creek/
LOCATION:North Alabama Sailing Marina\, 100 Browns Creek Rd\, Guntersville\, AL\, 35976\, United States
CATEGORIES:Cruise Calendar,Master Calendar
END:VEVENT
BEGIN:VEVENT
DTSTART;TZID=America/Chicago:20240428T150000
DTEND;TZID=America/Chicago:20240428T150000
DTSTAMP:20260423T174724
CREATED:20240117T150118Z
LAST-MODIFIED:20240216T194535Z
UID:2263-1714316400-1714316400@brownscreeksailingassociation.org
SUMMARY:Spring Series Race #5
DESCRIPTION:Fleets Racing: Dinghy & Keelboat
URL:https://brownscreeksailingassociation.org/event/spring-series-race-5/
LOCATION:North Alabama Sailing Marina\, 100 Browns Creek Rd\, Guntersville\, AL\, 35976\, United States
CATEGORIES:Master Calendar,Race Calendar
END:VEVENT
END:VCALENDAR