BEGIN:VCALENDAR
VERSION:2.0
PRODID:-//Browns Creek Sailing Association - ECPv6.15.20//NONSGML v1.0//EN
CALSCALE:GREGORIAN
METHOD:PUBLISH
X-WR-CALNAME:Browns Creek Sailing Association
X-ORIGINAL-URL:https://brownscreeksailingassociation.org
X-WR-CALDESC:Events for Browns Creek Sailing Association
REFRESH-INTERVAL;VALUE=DURATION:PT1H
X-Robots-Tag:noindex
X-PUBLISHED-TTL:PT1H
BEGIN:VTIMEZONE
TZID:America/Chicago
BEGIN:DAYLIGHT
TZOFFSETFROM:-0600
TZOFFSETTO:-0500
TZNAME:CDT
DTSTART:20230312T080000
END:DAYLIGHT
BEGIN:STANDARD
TZOFFSETFROM:-0500
TZOFFSETTO:-0600
TZNAME:CST
DTSTART:20231105T070000
END:STANDARD
BEGIN:DAYLIGHT
TZOFFSETFROM:-0600
TZOFFSETTO:-0500
TZNAME:CDT
DTSTART:20240310T080000
END:DAYLIGHT
BEGIN:STANDARD
TZOFFSETFROM:-0500
TZOFFSETTO:-0600
TZNAME:CST
DTSTART:20241103T070000
END:STANDARD
BEGIN:DAYLIGHT
TZOFFSETFROM:-0600
TZOFFSETTO:-0500
TZNAME:CDT
DTSTART:20250309T080000
END:DAYLIGHT
BEGIN:STANDARD
TZOFFSETFROM:-0500
TZOFFSETTO:-0600
TZNAME:CST
DTSTART:20251102T070000
END:STANDARD
END:VTIMEZONE
BEGIN:VEVENT
DTSTART;TZID=America/Chicago:20240704T100000
DTEND;TZID=America/Chicago:20240704T100000
DTSTAMP:20260423T134607
CREATED:20240411T135648Z
LAST-MODIFIED:20240411T135648Z
UID:3106-1720087200-1720087200@brownscreeksailingassociation.org
SUMMARY:Goat Island raft up celebration
DESCRIPTION:Goat Island raft up celebration
URL:https://brownscreeksailingassociation.org/event/goat-island-raft-up-celebration/
LOCATION:North Alabama Sailing Marina\, 100 Browns Creek Rd\, Guntersville\, AL\, 35976\, United States
CATEGORIES:Cruise Calendar,Master Calendar
END:VEVENT
BEGIN:VEVENT
DTSTART;TZID=America/Chicago:20240714T150000
DTEND;TZID=America/Chicago:20240714T150000
DTSTAMP:20260423T134607
CREATED:20240216T194628Z
LAST-MODIFIED:20240216T194628Z
UID:2858-1720969200-1720969200@brownscreeksailingassociation.org
SUMMARY:Spring Series Race #9
DESCRIPTION:Fleets Racing: Dinghy & Keelboat
URL:https://brownscreeksailingassociation.org/event/spring-series-race-9-3/
LOCATION:North Alabama Sailing Marina\, 100 Browns Creek Rd\, Guntersville\, AL\, 35976\, United States
CATEGORIES:Master Calendar,Race Calendar
END:VEVENT
BEGIN:VEVENT
DTSTART;TZID=America/Chicago:20240720T100000
DTEND;TZID=America/Chicago:20240720T100000
DTSTAMP:20260423T134607
CREATED:20240411T135648Z
LAST-MODIFIED:20240719T141229Z
UID:3107-1721469600-1721469600@brownscreeksailingassociation.org
SUMMARY:Cruise to City Harbor
DESCRIPTION:Cruise to City Harbor
URL:https://brownscreeksailingassociation.org/event/cruise-to-city-harbor/
LOCATION:North Alabama Sailing Marina\, 100 Browns Creek Rd\, Guntersville\, AL\, 35976\, United States
CATEGORIES:Cruise Calendar,Master Calendar
END:VEVENT
BEGIN:VEVENT
DTSTART;TZID=America/Chicago:20240721T150000
DTEND;TZID=America/Chicago:20240721T150000
DTSTAMP:20260423T134607
CREATED:20240216T194642Z
LAST-MODIFIED:20240216T194642Z
UID:2859-1721574000-1721574000@brownscreeksailingassociation.org
SUMMARY:Spring Series Race #10
DESCRIPTION:Fleets Racing: Dinghy & Keelboat
URL:https://brownscreeksailingassociation.org/event/spring-series-race-10-3/
LOCATION:North Alabama Sailing Marina\, 100 Browns Creek Rd\, Guntersville\, AL\, 35976\, United States
CATEGORIES:Master Calendar,Race Calendar
END:VEVENT
BEGIN:VEVENT
DTSTART;TZID=America/Chicago:20240728T150000
DTEND;TZID=America/Chicago:20240728T150000
DTSTAMP:20260423T134607
CREATED:20240117T150146Z
LAST-MODIFIED:20240216T194643Z
UID:2278-1722178800-1722178800@brownscreeksailingassociation.org
SUMMARY:Fall Series Race #1
DESCRIPTION:Fleets Racing: Dinghy & Keelboat
URL:https://brownscreeksailingassociation.org/event/fall-series-race-1/
LOCATION:North Alabama Sailing Marina\, 100 Browns Creek Rd\, Guntersville\, AL\, 35976\, United States
CATEGORIES:Master Calendar,Race Calendar
END:VEVENT
END:VCALENDAR