BEGIN:VCALENDAR
VERSION:2.0
PRODID:-//Browns Creek Sailing Association - ECPv6.15.20//NONSGML v1.0//EN
CALSCALE:GREGORIAN
METHOD:PUBLISH
X-ORIGINAL-URL:https://brownscreeksailingassociation.org
X-WR-CALDESC:Events for Browns Creek Sailing Association
REFRESH-INTERVAL;VALUE=DURATION:PT1H
X-Robots-Tag:noindex
X-PUBLISHED-TTL:PT1H
BEGIN:VTIMEZONE
TZID:America/Chicago
BEGIN:DAYLIGHT
TZOFFSETFROM:-0600
TZOFFSETTO:-0500
TZNAME:CDT
DTSTART:20230312T080000
END:DAYLIGHT
BEGIN:STANDARD
TZOFFSETFROM:-0500
TZOFFSETTO:-0600
TZNAME:CST
DTSTART:20231105T070000
END:STANDARD
BEGIN:DAYLIGHT
TZOFFSETFROM:-0600
TZOFFSETTO:-0500
TZNAME:CDT
DTSTART:20240310T080000
END:DAYLIGHT
BEGIN:STANDARD
TZOFFSETFROM:-0500
TZOFFSETTO:-0600
TZNAME:CST
DTSTART:20241103T070000
END:STANDARD
BEGIN:DAYLIGHT
TZOFFSETFROM:-0600
TZOFFSETTO:-0500
TZNAME:CDT
DTSTART:20250309T080000
END:DAYLIGHT
BEGIN:STANDARD
TZOFFSETFROM:-0500
TZOFFSETTO:-0600
TZNAME:CST
DTSTART:20251102T070000
END:STANDARD
END:VTIMEZONE
BEGIN:VEVENT
DTSTART;TZID=America/Chicago:20240804T150000
DTEND;TZID=America/Chicago:20240804T150000
DTSTAMP:20260423T122152
CREATED:20240117T150146Z
LAST-MODIFIED:20240216T194643Z
UID:2279-1722783600-1722783600@brownscreeksailingassociation.org
SUMMARY:Fall Series Race #2
DESCRIPTION:Fleets Racing: Dinghy & Keelboat
URL:https://brownscreeksailingassociation.org/event/fall-series-race-2/
LOCATION:North Alabama Sailing Marina\, 100 Browns Creek Rd\, Guntersville\, AL\, 35976\, United States
CATEGORIES:Master Calendar,Race Calendar
END:VEVENT
BEGIN:VEVENT
DTSTART;TZID=America/Chicago:20240810T100000
DTEND;TZID=America/Chicago:20240810T100000
DTSTAMP:20260423T122152
CREATED:20240411T135649Z
LAST-MODIFIED:20240411T135649Z
UID:3108-1723284000-1723284000@brownscreeksailingassociation.org
SUMMARY:Pirate Cove
DESCRIPTION:Pirate Cove
URL:https://brownscreeksailingassociation.org/event/pirate-cove/
LOCATION:North Alabama Sailing Marina\, 100 Browns Creek Rd\, Guntersville\, AL\, 35976\, United States
CATEGORIES:Cruise Calendar,Master Calendar
END:VEVENT
BEGIN:VEVENT
DTSTART;TZID=America/Chicago:20240811T150000
DTEND;TZID=America/Chicago:20240811T150000
DTSTAMP:20260423T122152
CREATED:20240117T150200Z
LAST-MODIFIED:20240216T194643Z
UID:2280-1723388400-1723388400@brownscreeksailingassociation.org
SUMMARY:Fall Series Race #3
DESCRIPTION:Fleets Racing: Dinghy & Keelboat
URL:https://brownscreeksailingassociation.org/event/fall-series-race-3/
LOCATION:North Alabama Sailing Marina\, 100 Browns Creek Rd\, Guntersville\, AL\, 35976\, United States
CATEGORIES:Master Calendar,Race Calendar
END:VEVENT
BEGIN:VEVENT
DTSTART;TZID=America/Chicago:20240818T150000
DTEND;TZID=America/Chicago:20240818T150000
DTSTAMP:20260423T122152
CREATED:20240117T150200Z
LAST-MODIFIED:20240216T194643Z
UID:2281-1723993200-1723993200@brownscreeksailingassociation.org
SUMMARY:Fall Series Race #4
DESCRIPTION:Fleets Racing: Dinghy & Keelboat
URL:https://brownscreeksailingassociation.org/event/fall-series-race-4/
LOCATION:North Alabama Sailing Marina\, 100 Browns Creek Rd\, Guntersville\, AL\, 35976\, United States
CATEGORIES:Master Calendar,Race Calendar
END:VEVENT
BEGIN:VEVENT
DTSTART;TZID=America/Chicago:20240825T150000
DTEND;TZID=America/Chicago:20240825T150000
DTSTAMP:20260423T122152
CREATED:20240117T150200Z
LAST-MODIFIED:20240216T194720Z
UID:2282-1724598000-1724598000@brownscreeksailingassociation.org
SUMMARY:Fall Series Race #5
DESCRIPTION:Fleets Racing: Dinghy & Keelboat
URL:https://brownscreeksailingassociation.org/event/fall-series-race-5/
LOCATION:North Alabama Sailing Marina\, 100 Browns Creek Rd\, Guntersville\, AL\, 35976\, United States
CATEGORIES:Master Calendar,Race Calendar
END:VEVENT
BEGIN:VEVENT
DTSTART;TZID=America/Chicago:20240831T100000
DTEND;TZID=America/Chicago:20240831T100000
DTSTAMP:20260423T122152
CREATED:20240411T135649Z
LAST-MODIFIED:20240411T135649Z
UID:3109-1725098400-1725098400@brownscreeksailingassociation.org
SUMMARY:Town Creek
DESCRIPTION:Town Creek
URL:https://brownscreeksailingassociation.org/event/town-creek/
LOCATION:North Alabama Sailing Marina\, 100 Browns Creek Rd\, Guntersville\, AL\, 35976\, United States
CATEGORIES:Cruise Calendar,Master Calendar
END:VEVENT
END:VCALENDAR