BEGIN:VCALENDAR
VERSION:2.0
PRODID:-//Browns Creek Sailing Association - ECPv6.15.20//NONSGML v1.0//EN
CALSCALE:GREGORIAN
METHOD:PUBLISH
X-WR-CALNAME:Browns Creek Sailing Association
X-ORIGINAL-URL:https://brownscreeksailingassociation.org
X-WR-CALDESC:Events for Browns Creek Sailing Association
REFRESH-INTERVAL;VALUE=DURATION:PT1H
X-Robots-Tag:noindex
X-PUBLISHED-TTL:PT1H
BEGIN:VTIMEZONE
TZID:America/Chicago
BEGIN:DAYLIGHT
TZOFFSETFROM:-0600
TZOFFSETTO:-0500
TZNAME:CDT
DTSTART:20230312T080000
END:DAYLIGHT
BEGIN:STANDARD
TZOFFSETFROM:-0500
TZOFFSETTO:-0600
TZNAME:CST
DTSTART:20231105T070000
END:STANDARD
BEGIN:DAYLIGHT
TZOFFSETFROM:-0600
TZOFFSETTO:-0500
TZNAME:CDT
DTSTART:20240310T080000
END:DAYLIGHT
BEGIN:STANDARD
TZOFFSETFROM:-0500
TZOFFSETTO:-0600
TZNAME:CST
DTSTART:20241103T070000
END:STANDARD
BEGIN:DAYLIGHT
TZOFFSETFROM:-0600
TZOFFSETTO:-0500
TZNAME:CDT
DTSTART:20250309T080000
END:DAYLIGHT
BEGIN:STANDARD
TZOFFSETFROM:-0500
TZOFFSETTO:-0600
TZNAME:CST
DTSTART:20251102T070000
END:STANDARD
END:VTIMEZONE
BEGIN:VEVENT
DTSTART;TZID=America/Chicago:20240908T150000
DTEND;TZID=America/Chicago:20240908T150000
DTSTAMP:20260423T111249
CREATED:20240117T150200Z
LAST-MODIFIED:20240216T194720Z
UID:2283-1725807600-1725807600@brownscreeksailingassociation.org
SUMMARY:Fall Series Race #6
DESCRIPTION:Fleets Racing: Dinghy & Keelboat
URL:https://brownscreeksailingassociation.org/event/fall-series-race-6/
LOCATION:North Alabama Sailing Marina\, 100 Browns Creek Rd\, Guntersville\, AL\, 35976\, United States
CATEGORIES:Master Calendar,Race Calendar
END:VEVENT
BEGIN:VEVENT
DTSTART;TZID=America/Chicago:20240915T150000
DTEND;TZID=America/Chicago:20240915T150000
DTSTAMP:20260423T111249
CREATED:20240117T150200Z
LAST-MODIFIED:20240712T185935Z
UID:2284-1726412400-1726412400@brownscreeksailingassociation.org
SUMMARY:Fall Series Race #7
DESCRIPTION:Fleets Racing: Dinghy & Keelboat
URL:https://brownscreeksailingassociation.org/event/fall-series-race-8/
LOCATION:North Alabama Sailing Marina\, 100 Browns Creek Rd\, Guntersville\, AL\, 35976\, United States
CATEGORIES:Master Calendar,Race Calendar
END:VEVENT
BEGIN:VEVENT
DTSTART;TZID=America/Chicago:20240922T150000
DTEND;TZID=America/Chicago:20240922T150000
DTSTAMP:20260423T111249
CREATED:20240126T224113Z
LAST-MODIFIED:20240712T185952Z
UID:2618-1727017200-1727017200@brownscreeksailingassociation.org
SUMMARY:Fall Series Race #8
DESCRIPTION:Fleets Racing: Dinghy & Keelboat
URL:https://brownscreeksailingassociation.org/event/fall-series-race-9-2/
LOCATION:North Alabama Sailing Marina\, 100 Browns Creek Rd\, Guntersville\, AL\, 35976\, United States
CATEGORIES:Master Calendar,Race Calendar
END:VEVENT
BEGIN:VEVENT
DTSTART;TZID=America/Chicago:20240927T150000
DTEND;TZID=America/Chicago:20240929T000000
DTSTAMP:20260423T111249
CREATED:20240126T224113Z
LAST-MODIFIED:20240411T140205Z
UID:2619-1727449200-1727568000@brownscreeksailingassociation.org
SUMMARY:TVCC
DESCRIPTION:Fleets Racing: Dinghy\, Keelboat & Cruiser
URL:https://brownscreeksailingassociation.org/event/tvcc-4/
LOCATION:North Alabama Sailing Marina\, 100 Browns Creek Rd\, Guntersville\, AL\, 35976\, United States
CATEGORIES:Master Calendar,Race Calendar
END:VEVENT
END:VCALENDAR