BEGIN:VCALENDAR
VERSION:2.0
PRODID:-//Browns Creek Sailing Association - ECPv6.15.20//NONSGML v1.0//EN
CALSCALE:GREGORIAN
METHOD:PUBLISH
X-ORIGINAL-URL:https://brownscreeksailingassociation.org
X-WR-CALDESC:Events for Browns Creek Sailing Association
REFRESH-INTERVAL;VALUE=DURATION:PT1H
X-Robots-Tag:noindex
X-PUBLISHED-TTL:PT1H
BEGIN:VTIMEZONE
TZID:America/Chicago
BEGIN:DAYLIGHT
TZOFFSETFROM:-0600
TZOFFSETTO:-0500
TZNAME:CDT
DTSTART:20240310T080000
END:DAYLIGHT
BEGIN:STANDARD
TZOFFSETFROM:-0500
TZOFFSETTO:-0600
TZNAME:CST
DTSTART:20241103T070000
END:STANDARD
BEGIN:DAYLIGHT
TZOFFSETFROM:-0600
TZOFFSETTO:-0500
TZNAME:CDT
DTSTART:20250309T080000
END:DAYLIGHT
BEGIN:STANDARD
TZOFFSETFROM:-0500
TZOFFSETTO:-0600
TZNAME:CST
DTSTART:20251102T070000
END:STANDARD
BEGIN:DAYLIGHT
TZOFFSETFROM:-0600
TZOFFSETTO:-0500
TZNAME:CDT
DTSTART:20260308T080000
END:DAYLIGHT
BEGIN:STANDARD
TZOFFSETFROM:-0500
TZOFFSETTO:-0600
TZNAME:CST
DTSTART:20261101T070000
END:STANDARD
END:VTIMEZONE
BEGIN:VEVENT
DTSTART;TZID=America/Chicago:20250102T183000
DTEND;TZID=America/Chicago:20250102T193000
DTSTAMP:20260423T060115
CREATED:20241217T124116Z
LAST-MODIFIED:20241217T124326Z
UID:3609-1735842600-1735846200@brownscreeksailingassociation.org
SUMMARY:BCSA Monthly Board Meeting
DESCRIPTION:The BCSA Board is meeting the first Thursday of every month at 6:30 pm. \nAny of the membership is welcome to join in person at the clubhouse or via zoom. \nIf you would like to get the zoom link contact Chris Edwards.
URL:https://brownscreeksailingassociation.org/event/bcsa-monthly-board-meeting/
LOCATION:North Alabama Sailing Marina\, 100 Browns Creek Rd\, Guntersville\, AL\, 35976\, United States
CATEGORIES:Master Calendar
END:VEVENT
END:VCALENDAR