BEGIN:VCALENDAR
VERSION:2.0
PRODID:-//Browns Creek Sailing Association - ECPv6.15.20//NONSGML v1.0//EN
CALSCALE:GREGORIAN
METHOD:PUBLISH
X-ORIGINAL-URL:https://brownscreeksailingassociation.org
X-WR-CALDESC:Events for Browns Creek Sailing Association
REFRESH-INTERVAL;VALUE=DURATION:PT1H
X-Robots-Tag:noindex
X-PUBLISHED-TTL:PT1H
BEGIN:VTIMEZONE
TZID:America/Chicago
BEGIN:DAYLIGHT
TZOFFSETFROM:-0600
TZOFFSETTO:-0500
TZNAME:CDT
DTSTART:20240310T080000
END:DAYLIGHT
BEGIN:STANDARD
TZOFFSETFROM:-0500
TZOFFSETTO:-0600
TZNAME:CST
DTSTART:20241103T070000
END:STANDARD
BEGIN:DAYLIGHT
TZOFFSETFROM:-0600
TZOFFSETTO:-0500
TZNAME:CDT
DTSTART:20250309T080000
END:DAYLIGHT
BEGIN:STANDARD
TZOFFSETFROM:-0500
TZOFFSETTO:-0600
TZNAME:CST
DTSTART:20251102T070000
END:STANDARD
BEGIN:DAYLIGHT
TZOFFSETFROM:-0600
TZOFFSETTO:-0500
TZNAME:CDT
DTSTART:20260308T080000
END:DAYLIGHT
BEGIN:STANDARD
TZOFFSETFROM:-0500
TZOFFSETTO:-0600
TZNAME:CST
DTSTART:20261101T070000
END:STANDARD
END:VTIMEZONE
BEGIN:VEVENT
DTSTART;TZID=America/Chicago:20250403T183000
DTEND;TZID=America/Chicago:20250403T193000
DTSTAMP:20260423T015258
CREATED:20241217T124259Z
LAST-MODIFIED:20250327T232643Z
UID:3616-1743705000-1743708600@brownscreeksailingassociation.org
SUMMARY:BCSA Monthly Board Meeting
DESCRIPTION:The BCSA Board is meeting the first Thursday of every month at 6:30 pm. \nAny of the membership is welcome to join in person at the clubhouse or via zoom. \nIf you would like to get the zoom link contact Chris Edwards.
URL:https://brownscreeksailingassociation.org/event/bcsa-monthly-board-meeting-4/
LOCATION:North Alabama Sailing Marina\, 100 Browns Creek Rd\, Guntersville\, AL\, 35976\, United States
CATEGORIES:Master Calendar
END:VEVENT
BEGIN:VEVENT
DTSTART;TZID=America/Chicago:20250406T150000
DTEND;TZID=America/Chicago:20250406T180000
DTSTAMP:20260423T015258
CREATED:20250305T000125Z
LAST-MODIFIED:20250305T002401Z
UID:3928-1743951600-1743962400@brownscreeksailingassociation.org
SUMMARY:Spring Series Race #2
DESCRIPTION:Link: https://brownscreeksailingassociation.org/spring-series-nor-2025/
URL:https://brownscreeksailingassociation.org/event/spring-series-race-2-3/
LOCATION:North Alabama Sailing Marina\, 100 Browns Creek Rd\, Guntersville\, AL\, 35976\, United States
CATEGORIES:Master Calendar,Race Calendar
END:VEVENT
BEGIN:VEVENT
DTSTART;TZID=America/Chicago:20250413T150000
DTEND;TZID=America/Chicago:20250413T180000
DTSTAMP:20260423T015258
CREATED:20250305T000125Z
LAST-MODIFIED:20250305T002426Z
UID:3929-1744556400-1744567200@brownscreeksailingassociation.org
SUMMARY:Spring Series Race #3
DESCRIPTION:Link: https://brownscreeksailingassociation.org/spring-series-nor-2025/
URL:https://brownscreeksailingassociation.org/event/spring-series-race-3-2/
LOCATION:North Alabama Sailing Marina\, 100 Browns Creek Rd\, Guntersville\, AL\, 35976\, United States
CATEGORIES:Master Calendar,Race Calendar
END:VEVENT
BEGIN:VEVENT
DTSTART;TZID=America/Chicago:20250420T150000
DTEND;TZID=America/Chicago:20250420T180000
DTSTAMP:20260423T015258
CREATED:20250305T001928Z
LAST-MODIFIED:20250415T235247Z
UID:3936-1745161200-1745172000@brownscreeksailingassociation.org
SUMMARY:Spring Series Race #4 *CANCELED*
DESCRIPTION:*CANCELED* \nLink: https://brownscreeksailingassociation.org/spring-series-nor-2025/ \n*CANCELED*
URL:https://brownscreeksailingassociation.org/event/spring-series-race-4-2/
LOCATION:North Alabama Sailing Marina\, 100 Browns Creek Rd\, Guntersville\, AL\, 35976\, United States
CATEGORIES:Master Calendar,Race Calendar
END:VEVENT
BEGIN:VEVENT
DTSTART;TZID=America/Chicago:20250427T150000
DTEND;TZID=America/Chicago:20250427T180000
DTSTAMP:20260423T015258
CREATED:20250305T001928Z
LAST-MODIFIED:20250305T002256Z
UID:3937-1745766000-1745776800@brownscreeksailingassociation.org
SUMMARY:Spring Series Race #5
DESCRIPTION:Link: https://brownscreeksailingassociation.org/spring-series-nor-2025/
URL:https://brownscreeksailingassociation.org/event/spring-series-race-5-2/
LOCATION:North Alabama Sailing Marina\, 100 Browns Creek Rd\, Guntersville\, AL\, 35976\, United States
CATEGORIES:Master Calendar,Race Calendar
END:VEVENT
END:VCALENDAR