BEGIN:VCALENDAR
VERSION:2.0
PRODID:-//Browns Creek Sailing Association - ECPv6.15.20//NONSGML v1.0//EN
CALSCALE:GREGORIAN
METHOD:PUBLISH
X-WR-CALNAME:Browns Creek Sailing Association
X-ORIGINAL-URL:https://brownscreeksailingassociation.org
X-WR-CALDESC:Events for Browns Creek Sailing Association
REFRESH-INTERVAL;VALUE=DURATION:PT1H
X-Robots-Tag:noindex
X-PUBLISHED-TTL:PT1H
BEGIN:VTIMEZONE
TZID:America/Chicago
BEGIN:DAYLIGHT
TZOFFSETFROM:-0600
TZOFFSETTO:-0500
TZNAME:CDT
DTSTART:20240310T080000
END:DAYLIGHT
BEGIN:STANDARD
TZOFFSETFROM:-0500
TZOFFSETTO:-0600
TZNAME:CST
DTSTART:20241103T070000
END:STANDARD
BEGIN:DAYLIGHT
TZOFFSETFROM:-0600
TZOFFSETTO:-0500
TZNAME:CDT
DTSTART:20250309T080000
END:DAYLIGHT
BEGIN:STANDARD
TZOFFSETFROM:-0500
TZOFFSETTO:-0600
TZNAME:CST
DTSTART:20251102T070000
END:STANDARD
BEGIN:DAYLIGHT
TZOFFSETFROM:-0600
TZOFFSETTO:-0500
TZNAME:CDT
DTSTART:20260308T080000
END:DAYLIGHT
BEGIN:STANDARD
TZOFFSETFROM:-0500
TZOFFSETTO:-0600
TZNAME:CST
DTSTART:20261101T070000
END:STANDARD
END:VTIMEZONE
BEGIN:VEVENT
DTSTART;TZID=America/Chicago:20250501T183000
DTEND;TZID=America/Chicago:20250501T193000
DTSTAMP:20260423T001147
CREATED:20241217T124358Z
LAST-MODIFIED:20241217T124358Z
UID:3618-1746124200-1746127800@brownscreeksailingassociation.org
SUMMARY:BCSA Monthly Board Meeting
DESCRIPTION:The BCSA Board is meeting the first Thursday of every month at 6:30 pm. \nAny of the membership is welcome to join in person at the clubhouse or via zoom. \nIf you would like to get the zoom link contact Chris Edwards.
URL:https://brownscreeksailingassociation.org/event/bcsa-monthly-board-meeting-5/
LOCATION:North Alabama Sailing Marina\, 100 Browns Creek Rd\, Guntersville\, AL\, 35976\, United States
CATEGORIES:Master Calendar
END:VEVENT
BEGIN:VEVENT
DTSTART;TZID=America/Chicago:20250518T150000
DTEND;TZID=America/Chicago:20250518T180000
DTSTAMP:20260423T001147
CREATED:20250305T001929Z
LAST-MODIFIED:20250305T001929Z
UID:3938-1747580400-1747591200@brownscreeksailingassociation.org
SUMMARY:Mentor Race
DESCRIPTION:Fleets Racing: Dinghy & Keelboat
URL:https://brownscreeksailingassociation.org/event/mentor-race/
LOCATION:North Alabama Sailing Marina\, 100 Browns Creek Rd\, Guntersville\, AL\, 35976\, United States
CATEGORIES:Master Calendar,Race Calendar
END:VEVENT
BEGIN:VEVENT
DTSTART;TZID=America/Chicago:20250524T100000
DTEND;TZID=America/Chicago:20250524T170000
DTSTAMP:20260423T001147
CREATED:20250515T184312Z
LAST-MODIFIED:20250515T184312Z
UID:4087-1748080800-1748106000@brownscreeksailingassociation.org
SUMMARY:🚨 Memorial Day Weekend Sailboat Cruise & Raft-Up! ⛵️
DESCRIPTION:Join us Saturday\, May 24th\, 2025 for a full day of wind\, water\, and summer vibes! We’re setting sail from Browns Creek Sailing Marina at 10:00 AM\, cruising out to Honeycomb and anchoring behind Goat Island for an epic raft-up.\n\n Expect sunshine\, smooth sailing\, floating fun\, and great company. Bring your food\, snacks\, drinks\, swimsuits\, and that long weekend energy — it’s time to make some waves!\n\n Departing at 10:00 AM sharp\n Browns Creek Sailing Marina\n Saturday\, May 24th\, 2025\n\nWhether you’re a seasoned sailor or hopping aboard as crew\, all are welcome!\nDrop anchor\, link up\, and let’s kick off the summer in style.
URL:https://brownscreeksailingassociation.org/event/%f0%9f%9a%a8-memorial-day-weekend-sailboat-cruise-raft-up-%e2%9b%b5%ef%b8%8f/
LOCATION:Browns Creek Sailing Association\, 100 Browns Creek Road\, Guntersville\, AL\, 35976
CATEGORIES:Cruise Calendar,Master Calendar
ATTACH;FMTTYPE=image/jpeg:https://brownscreeksailingassociation.org/wp-content/uploads/2025/05/mem-cruisen.jpg
END:VEVENT
BEGIN:VEVENT
DTSTART;TZID=America/Chicago:20250525T120000
DTEND;TZID=America/Chicago:20250525T170000
DTSTAMP:20260423T001147
CREATED:20250513T141727Z
LAST-MODIFIED:20250513T142308Z
UID:4074-1748174400-1748192400@brownscreeksailingassociation.org
SUMMARY:Slip N slide
DESCRIPTION:Kids Day Bash: Slip ‘N Slide\, Hot Dogs & Memorial Weekend Fun! \nGet ready for a splash-tastic time! We’re throwing a Kids Day celebration and you’re invited to join the fun. Mark your calendars\, grab your towels\, and bring your appetites—this is one summer event you don’t want to miss. \n🎉 What’s Happening:We’ll be setting up a giant Slip ‘N Slide for the kids (and brave adults!) to beat the heat and have a blast. While the little ones slide\, sizzle\, and splash\, we’ll be grilling up hot dogs for everyone to enjoy. \n🍽 Bring a Side Dish:To make it a true community feast\, we’re asking each family to bring a side dishto share—chips\, salads\, fruit\, desserts\, you name it! \n📍 Location: Browns creek Sailing Marina📅 Date: Sunday May 25th⏰ Time: 12 noon \nDon’t forget sunscreen\, lawn chairs\, and a big smile! This is all about sunshine\, laughter\, and good old-fashioned summer fun. \nSee you there!
URL:https://brownscreeksailingassociation.org/event/slip-n-slide/
LOCATION:Browns Creek Sailing Association\, 100 Browns Creek Road\, Guntersville\, AL\, 35976
CATEGORIES:Master Calendar,Social Calendar
ATTACH;FMTTYPE=image/png:https://brownscreeksailingassociation.org/wp-content/uploads/2025/05/slide.png
ORGANIZER;CN="Jennifer Birckbichler":MAILTO:jabirckbichler@gmail.com
END:VEVENT
BEGIN:VEVENT
DTSTART;TZID=America/Chicago:20250531T120000
DTEND;TZID=America/Chicago:20250531T180000
DTSTAMP:20260423T001147
CREATED:20250305T001929Z
LAST-MODIFIED:20250513T140522Z
UID:3939-1748692800-1748714400@brownscreeksailingassociation.org
SUMMARY:Mayor's Cup
DESCRIPTION:See the NOR.
URL:https://brownscreeksailingassociation.org/event/mayors-cup-2/
LOCATION:Guntersville City Harbor\, 29 Paddle Wheel Dr\, Guntersville\, AL\, 35976\, United States
CATEGORIES:Cruise Calendar,Master Calendar,Race Calendar
ATTACH;FMTTYPE=image/jpeg:https://brownscreeksailingassociation.org/wp-content/uploads/2025/04/490758751_10160745171646594_2674660661714968921_n.jpg
END:VEVENT
END:VCALENDAR