BEGIN:VCALENDAR
VERSION:2.0
PRODID:-//Browns Creek Sailing Association - ECPv6.15.20//NONSGML v1.0//EN
CALSCALE:GREGORIAN
METHOD:PUBLISH
X-WR-CALNAME:Browns Creek Sailing Association
X-ORIGINAL-URL:https://brownscreeksailingassociation.org
X-WR-CALDESC:Events for Browns Creek Sailing Association
REFRESH-INTERVAL;VALUE=DURATION:PT1H
X-Robots-Tag:noindex
X-PUBLISHED-TTL:PT1H
BEGIN:VTIMEZONE
TZID:America/Chicago
BEGIN:DAYLIGHT
TZOFFSETFROM:-0600
TZOFFSETTO:-0500
TZNAME:CDT
DTSTART:20250309T080000
END:DAYLIGHT
BEGIN:STANDARD
TZOFFSETFROM:-0500
TZOFFSETTO:-0600
TZNAME:CST
DTSTART:20251102T070000
END:STANDARD
BEGIN:DAYLIGHT
TZOFFSETFROM:-0600
TZOFFSETTO:-0500
TZNAME:CDT
DTSTART:20260308T080000
END:DAYLIGHT
BEGIN:STANDARD
TZOFFSETFROM:-0500
TZOFFSETTO:-0600
TZNAME:CST
DTSTART:20261101T070000
END:STANDARD
BEGIN:DAYLIGHT
TZOFFSETFROM:-0600
TZOFFSETTO:-0500
TZNAME:CDT
DTSTART:20270314T080000
END:DAYLIGHT
BEGIN:STANDARD
TZOFFSETFROM:-0500
TZOFFSETTO:-0600
TZNAME:CST
DTSTART:20271107T070000
END:STANDARD
END:VTIMEZONE
BEGIN:VEVENT
DTSTART;TZID=America/Chicago:20261101T130000
DTEND;TZID=America/Chicago:20261101T160000
DTSTAMP:20260422T181819
CREATED:20260112T203537Z
LAST-MODIFIED:20260112T204640Z
UID:4449-1793538000-1793548800@brownscreeksailingassociation.org
SUMMARY:Fall Series Race #7
DESCRIPTION:Fleets Racing: Dinghy & Keelboat
URL:https://brownscreeksailingassociation.org/event/fall-series-race-7-2/
LOCATION:North Alabama Sailing Marina\, 100 Browns Creek Rd\, Guntersville\, AL\, 35976\, United States
CATEGORIES:Master Calendar,Race Calendar
END:VEVENT
BEGIN:VEVENT
DTSTART;TZID=America/Chicago:20261107T130000
DTEND;TZID=America/Chicago:20261107T150000
DTSTAMP:20260422T181819
CREATED:20260112T222450Z
LAST-MODIFIED:20260112T222450Z
UID:4475-1794056400-1794063600@brownscreeksailingassociation.org
SUMMARY:Frostbite Series 2026 Race #1
DESCRIPTION:
URL:https://brownscreeksailingassociation.org/event/frostbite-series-2026-race-1/
LOCATION:Browns Creek Sailing Association\, 100 Browns Creek Road\, Guntersville\, AL\, 35976
CATEGORIES:Master Calendar,Race Calendar
END:VEVENT
BEGIN:VEVENT
DTSTART;TZID=America/Chicago:20261115T130000
DTEND;TZID=America/Chicago:20261115T160000
DTSTAMP:20260422T181819
CREATED:20260112T222608Z
LAST-MODIFIED:20260112T222608Z
UID:4478-1794747600-1794758400@brownscreeksailingassociation.org
SUMMARY:Frostbite Series 2026 Race #2
DESCRIPTION:
URL:https://brownscreeksailingassociation.org/event/frostbite-series-2026-race-2/
LOCATION:Browns Creek Sailing Association\, 100 Browns Creek Road\, Guntersville\, AL\, 35976
CATEGORIES:Master Calendar,Race Calendar
END:VEVENT
BEGIN:VEVENT
DTSTART;TZID=America/Chicago:20261121T130000
DTEND;TZID=America/Chicago:20261121T160000
DTSTAMP:20260422T181819
CREATED:20260112T222751Z
LAST-MODIFIED:20260112T222751Z
UID:4480-1795266000-1795276800@brownscreeksailingassociation.org
SUMMARY:Frostbite Series 2026 Race #3
DESCRIPTION:
URL:https://brownscreeksailingassociation.org/event/frostbite-series-2026-race-3/
LOCATION:Browns Creek Sailing Association\, 100 Browns Creek Road\, Guntersville\, AL\, 35976
CATEGORIES:Master Calendar,Race Calendar
END:VEVENT
END:VCALENDAR