BEGIN:VCALENDAR
VERSION:2.0
PRODID:-//Browns Creek Sailing Association - ECPv6.15.20//NONSGML v1.0//EN
CALSCALE:GREGORIAN
METHOD:PUBLISH
X-WR-CALNAME:Browns Creek Sailing Association
X-ORIGINAL-URL:https://brownscreeksailingassociation.org
X-WR-CALDESC:Events for Browns Creek Sailing Association
REFRESH-INTERVAL;VALUE=DURATION:PT1H
X-Robots-Tag:noindex
X-PUBLISHED-TTL:PT1H
BEGIN:VTIMEZONE
TZID:America/Chicago
BEGIN:DAYLIGHT
TZOFFSETFROM:-0600
TZOFFSETTO:-0500
TZNAME:CDT
DTSTART:20240310T080000
END:DAYLIGHT
BEGIN:STANDARD
TZOFFSETFROM:-0500
TZOFFSETTO:-0600
TZNAME:CST
DTSTART:20241103T070000
END:STANDARD
BEGIN:DAYLIGHT
TZOFFSETFROM:-0600
TZOFFSETTO:-0500
TZNAME:CDT
DTSTART:20250309T080000
END:DAYLIGHT
BEGIN:STANDARD
TZOFFSETFROM:-0500
TZOFFSETTO:-0600
TZNAME:CST
DTSTART:20251102T070000
END:STANDARD
BEGIN:DAYLIGHT
TZOFFSETFROM:-0600
TZOFFSETTO:-0500
TZNAME:CDT
DTSTART:20260308T080000
END:DAYLIGHT
BEGIN:STANDARD
TZOFFSETFROM:-0500
TZOFFSETTO:-0600
TZNAME:CST
DTSTART:20261101T070000
END:STANDARD
END:VTIMEZONE
BEGIN:VEVENT
DTSTART;TZID=America/Chicago:20250524T100000
DTEND;TZID=America/Chicago:20250524T170000
DTSTAMP:20260423T015302
CREATED:20250515T184312Z
LAST-MODIFIED:20250515T184312Z
UID:4087-1748080800-1748106000@brownscreeksailingassociation.org
SUMMARY:🚨 Memorial Day Weekend Sailboat Cruise & Raft-Up! ⛵️
DESCRIPTION:Join us Saturday\, May 24th\, 2025 for a full day of wind\, water\, and summer vibes! We’re setting sail from Browns Creek Sailing Marina at 10:00 AM\, cruising out to Honeycomb and anchoring behind Goat Island for an epic raft-up.\n\n Expect sunshine\, smooth sailing\, floating fun\, and great company. Bring your food\, snacks\, drinks\, swimsuits\, and that long weekend energy — it’s time to make some waves!\n\n Departing at 10:00 AM sharp\n Browns Creek Sailing Marina\n Saturday\, May 24th\, 2025\n\nWhether you’re a seasoned sailor or hopping aboard as crew\, all are welcome!\nDrop anchor\, link up\, and let’s kick off the summer in style.
URL:https://brownscreeksailingassociation.org/event/%f0%9f%9a%a8-memorial-day-weekend-sailboat-cruise-raft-up-%e2%9b%b5%ef%b8%8f/
LOCATION:Browns Creek Sailing Association\, 100 Browns Creek Road\, Guntersville\, AL\, 35976
CATEGORIES:Cruise Calendar,Master Calendar
ATTACH;FMTTYPE=image/jpeg:https://brownscreeksailingassociation.org/wp-content/uploads/2025/05/mem-cruisen.jpg
END:VEVENT
END:VCALENDAR