BEGIN:VCALENDAR
VERSION:2.0
PRODID:-//Browns Creek Sailing Association - ECPv6.15.20//NONSGML v1.0//EN
CALSCALE:GREGORIAN
METHOD:PUBLISH
X-WR-CALNAME:Browns Creek Sailing Association
X-ORIGINAL-URL:https://brownscreeksailingassociation.org
X-WR-CALDESC:Events for Browns Creek Sailing Association
REFRESH-INTERVAL;VALUE=DURATION:PT1H
X-Robots-Tag:noindex
X-PUBLISHED-TTL:PT1H
BEGIN:VTIMEZONE
TZID:America/Chicago
BEGIN:DAYLIGHT
TZOFFSETFROM:-0600
TZOFFSETTO:-0500
TZNAME:CDT
DTSTART:20240310T080000
END:DAYLIGHT
BEGIN:STANDARD
TZOFFSETFROM:-0500
TZOFFSETTO:-0600
TZNAME:CST
DTSTART:20241103T070000
END:STANDARD
BEGIN:DAYLIGHT
TZOFFSETFROM:-0600
TZOFFSETTO:-0500
TZNAME:CDT
DTSTART:20250309T080000
END:DAYLIGHT
BEGIN:STANDARD
TZOFFSETFROM:-0500
TZOFFSETTO:-0600
TZNAME:CST
DTSTART:20251102T070000
END:STANDARD
BEGIN:DAYLIGHT
TZOFFSETFROM:-0600
TZOFFSETTO:-0500
TZNAME:CDT
DTSTART:20260308T080000
END:DAYLIGHT
BEGIN:STANDARD
TZOFFSETFROM:-0500
TZOFFSETTO:-0600
TZNAME:CST
DTSTART:20261101T070000
END:STANDARD
BEGIN:DAYLIGHT
TZOFFSETFROM:-0600
TZOFFSETTO:-0500
TZNAME:CDT
DTSTART:20270314T080000
END:DAYLIGHT
BEGIN:STANDARD
TZOFFSETFROM:-0500
TZOFFSETTO:-0600
TZNAME:CST
DTSTART:20271107T070000
END:STANDARD
END:VTIMEZONE
BEGIN:VEVENT
DTSTART;TZID=America/Chicago:20260419T140000
DTEND;TZID=America/Chicago:20260419T170000
DTSTAMP:20260422T111016
CREATED:20260112T203451Z
LAST-MODIFIED:20260115T135248Z
UID:4430-1776607200-1776618000@brownscreeksailingassociation.org
SUMMARY:Spring Series Race #3
DESCRIPTION:Fleets Racing: Dinghy & Keelboat
URL:https://brownscreeksailingassociation.org/event/spring-series-race-3-3/
LOCATION:North Alabama Sailing Marina\, 100 Browns Creek Rd\, Guntersville\, AL\, 35976\, United States
CATEGORIES:Master Calendar,Race Calendar
END:VEVENT
BEGIN:VEVENT
DTSTART;TZID=America/Chicago:20260411T100000
DTEND;TZID=America/Chicago:20260411T180000
DTSTAMP:20260422T111016
CREATED:20260112T203424Z
LAST-MODIFIED:20260112T213918Z
UID:4424-1775901600-1775930400@brownscreeksailingassociation.org
SUMMARY:LGSC Guntersville Cup
DESCRIPTION:Fleets Racing: Dinghy & Keelboat
URL:https://brownscreeksailingassociation.org/event/lgsc-guntersville-cup/
LOCATION:AL
CATEGORIES:Master Calendar,Race Calendar
END:VEVENT
BEGIN:VEVENT
DTSTART;TZID=America/Chicago:20260328T140000
DTEND;TZID=America/Chicago:20260328T170000
DTSTAMP:20260422T111016
CREATED:20260112T203424Z
LAST-MODIFIED:20260113T144234Z
UID:4423-1774706400-1774717200@brownscreeksailingassociation.org
SUMMARY:Spring Series Race #2
DESCRIPTION:Fleets Racing: Dinghy & Keelboat
URL:https://brownscreeksailingassociation.org/event/spring-series-race-2-4/
LOCATION:North Alabama Sailing Marina\, 100 Browns Creek Rd\, Guntersville\, AL\, 35976\, United States
CATEGORIES:Master Calendar,Race Calendar
END:VEVENT
BEGIN:VEVENT
DTSTART;TZID=America/Chicago:20260322T140000
DTEND;TZID=America/Chicago:20260322T170000
DTSTAMP:20260422T111016
CREATED:20260112T203424Z
LAST-MODIFIED:20260112T221312Z
UID:4422-1774188000-1774198800@brownscreeksailingassociation.org
SUMMARY:Spring Series Race #1
DESCRIPTION:Fleets Racing: Dinghy & Keelboat
URL:https://brownscreeksailingassociation.org/event/spring-series-race-1-3/
LOCATION:North Alabama Sailing Marina\, 100 Browns Creek Rd\, Guntersville\, AL\, 35976\, United States
CATEGORIES:Master Calendar,Race Calendar
END:VEVENT
BEGIN:VEVENT
DTSTART;TZID=America/Chicago:20260314T110000
DTEND;TZID=America/Chicago:20260314T210000
DTSTAMP:20260422T111016
CREATED:20260112T203424Z
LAST-MODIFIED:20260302T151615Z
UID:4421-1773486000-1773522000@brownscreeksailingassociation.org
SUMMARY:St. Patrick's Day Regatta
DESCRIPTION:Fleets Racing: Dinghy\, Keelboat & Cruiser \n🍀⛵ BCSA St. Patty’s Day Pints & Patties Regatta ⛵🍀 \nGrab your green gear\, gather your crew\, and join us for a shamrock-filled day of sailing\, pints\, and pattiemelts! Whether you’re racing for glory or just out for the fun\, it’s the perfect excuse to get boats on the water and celebrate St. Patty’s Day the BCSA way. Expect good wind\, good friends\, and a great time both on and off the water. \n⛵ Skippers Meeting: 11:00 AM🏁 Regatta Start: 12:00 PM💲 Race Entry: $25🍔 Crew / Visitor Meals: $10 \nAfter the racing wraps up\, the post-regatta social starts around 5:30 PM\, with pattiemelts served at 6:30 PM. \n🎶 We’ll keep the party going with live music from one of our favorite bands — Hard on The Chickens! \nWear some green\, bring your crew\, and come raise a pint with us! 🍀🍺⛵Let’s make this a St. Patty’s Day to remember on Browns Creek!
URL:https://brownscreeksailingassociation.org/event/st-patricks-day-regatta-2/
LOCATION:North Alabama Sailing Marina\, 100 Browns Creek Rd\, Guntersville\, AL\, 35976\, United States
CATEGORIES:Cruise Calendar,Master Calendar,Race Calendar
END:VEVENT
BEGIN:VEVENT
DTSTART;TZID=America/Chicago:20260301T130000
DTEND;TZID=America/Chicago:20260301T160000
DTSTAMP:20260422T111016
CREATED:20260112T203424Z
LAST-MODIFIED:20260115T134826Z
UID:4420-1772370000-1772380800@brownscreeksailingassociation.org
SUMMARY:Frostbite 2025 Series Race #6
DESCRIPTION:Fleets Racing: Dinghy & Keelboat
URL:https://brownscreeksailingassociation.org/event/frostbite-2024-series-race-6-2/
LOCATION:North Alabama Sailing Marina\, 100 Browns Creek Rd\, Guntersville\, AL\, 35976\, United States
CATEGORIES:Master Calendar,Race Calendar
END:VEVENT
BEGIN:VEVENT
DTSTART;TZID=America/Chicago:20260221T130000
DTEND;TZID=America/Chicago:20260221T160000
DTSTAMP:20260422T111016
CREATED:20260112T203422Z
LAST-MODIFIED:20260112T214108Z
UID:4417-1771678800-1771689600@brownscreeksailingassociation.org
SUMMARY:Frostbite 2025 Series Race #5
DESCRIPTION:Fleets Racing: Dinghy & Keelboat
URL:https://brownscreeksailingassociation.org/event/frostbite-2025-series-race-5/
LOCATION:North Alabama Sailing Marina\, 100 Browns Creek Rd\, Guntersville\, AL\, 35976\, United States
CATEGORIES:Master Calendar,Race Calendar
END:VEVENT
BEGIN:VEVENT
DTSTART;TZID=America/Chicago:20260220T173000
DTEND;TZID=America/Chicago:20260220T220000
DTSTAMP:20260422T111016
CREATED:20260208T211303Z
LAST-MODIFIED:20260208T211303Z
UID:4572-1771608600-1771624800@brownscreeksailingassociation.org
SUMMARY:February Cruise-Dinner at Nash's
DESCRIPTION:Subject: ⛵ BCSA February Cruise Event \nAttention BCSA Sailors\, \nIt’s time to stop staring at your boat’s hull and actually put it in the water. We’re staging a strategic “invasion” of City Harbor in Guntersville on Friday\, February 20th for dinner at Nash’s. \nThe goal is good food\, better fellowship\, and seeing who actually remembered to charge their batteries over the winter. \nThe “Flexible” Itinerary\n\n5:00 PM – 5:30 PM: Rally at the BCSA Clubhouse. This is the designated window for bragging about upgrades you haven’t finished and judging everyone else’s winterization choices.\n5:30 PM-ish: We head to the docks for the Moment of Truth. We’ll attempt to start the boats. Hopefully you will have better luck than I did as I recently discovered my batteries had died.\n\nNote: If your boat decides to identify as a stationary water ornament today\, don’t panic. Just look sad on the dock and hitch a ride with someone whose boat actually works. We should have plenty of room for stowaways.\n\n\n5:45 PM (Lines Away): We depart for City Harbor. If you’re still bleeding your fuel lines at 5:35\, we’ll see you at the restaurant (hopefully).\nThe Main Event: Dinner and drinks at Nash’s. We’ll swap tall tales about our sailing prowess until the check arrives and everyone suddenly forgets how to calculate a tip.\nThe Return: After some laughs and a good meal\, enjoy a nice moonlit cruise back to the marina.\n\nThe Essentials\n\nRSVP: Please let us know you’re coming so I can warn Nash’s. They need a headcount\, and I need to know how many “rescue seats” we might need for the mechanically challenged among us.\n\nOption A: Mark yourself as “Going” on the Facebook Event post.\nOption B: Send a quick note to cruise@brownscreeksailingassociation.org.\n\n\nAttire: It’s February in Alabama. Dress like you’re expecting a blizzard but hoping for a heatwave. Layers are probably a good idea just in case.\n\nLet’s get out there and remind Guntersville that BCSA is more than just a group of people with a shared interest in expensive fiberglass—we’re also very good at eating. See you at the clubhouse! \nJeffrey Wilson \nBCSA Cruise Chair
URL:https://brownscreeksailingassociation.org/event/february-cruise-dinner-at-nashs/
LOCATION:Guntersville City Harbor\, 29 Paddle Wheel Dr\, Guntersville\, AL\, 35976\, United States
CATEGORIES:Cruise Calendar,Master Calendar
ATTACH;FMTTYPE=image/png:https://brownscreeksailingassociation.org/wp-content/uploads/2026/02/feb_cruise_logo_small_crop2.png
END:VEVENT
BEGIN:VEVENT
DTSTART;TZID=America/Chicago:20260208T130000
DTEND;TZID=America/Chicago:20260208T160000
DTSTAMP:20260422T111016
CREATED:20260112T203422Z
LAST-MODIFIED:20260112T214013Z
UID:4416-1770555600-1770566400@brownscreeksailingassociation.org
SUMMARY:Frostbite 2025 Series Race #4
DESCRIPTION:Fleets Racing: Dinghy & Keelboat
URL:https://brownscreeksailingassociation.org/event/frostbite-2025-series-race-4/
LOCATION:North Alabama Sailing Marina\, 100 Browns Creek Rd\, Guntersville\, AL\, 35976\, United States
CATEGORIES:Master Calendar,Race Calendar
END:VEVENT
BEGIN:VEVENT
DTSTART;TZID=America/Chicago:20260102T183000
DTEND;TZID=America/Chicago:20260102T193000
DTSTAMP:20260422T111016
CREATED:20241217T124627Z
LAST-MODIFIED:20251222T195325Z
UID:3630-1767378600-1767382200@brownscreeksailingassociation.org
SUMMARY:BCSA Monthly Board Meeting
DESCRIPTION:The BCSA Board is meeting the first Thursday of every month at 6:30 pm. \nAny of the membership is welcome to join in person at the clubhouse or via zoom. \nIf you would like to get the zoom link contact Chris Edwards.
URL:https://brownscreeksailingassociation.org/event/bcsa-monthly-board-meeting-11/
LOCATION:North Alabama Sailing Marina\, 100 Browns Creek Rd\, Guntersville\, AL\, 35976\, United States
CATEGORIES:Master Calendar
END:VEVENT
BEGIN:VEVENT
DTSTART;TZID=America/Chicago:20251207T130000
DTEND;TZID=America/Chicago:20251207T180000
DTSTAMP:20260422T111016
CREATED:20250305T002002Z
LAST-MODIFIED:20250305T002002Z
UID:3958-1765112400-1765130400@brownscreeksailingassociation.org
SUMMARY:Frostbite 2025 Series Race #3
DESCRIPTION:Fleets Racing: Dinghy & Keelboat
URL:https://brownscreeksailingassociation.org/event/frostbite-2025-series-race-3/
LOCATION:North Alabama Sailing Marina\, 100 Browns Creek Rd\, Guntersville\, AL\, 35976\, United States
CATEGORIES:Master Calendar,Race Calendar
END:VEVENT
BEGIN:VEVENT
DTSTART;TZID=America/Chicago:20251204T183000
DTEND;TZID=America/Chicago:20251204T193000
DTSTAMP:20260422T111016
CREATED:20241217T124707Z
LAST-MODIFIED:20241217T124707Z
UID:3632-1764873000-1764876600@brownscreeksailingassociation.org
SUMMARY:BCSA Monthly Board Meeting
DESCRIPTION:The BCSA Board is meeting the first Thursday of every month at 6:30 pm. \nAny of the membership is welcome to join in person at the clubhouse or via zoom. \nIf you would like to get the zoom link contact Chris Edwards.
URL:https://brownscreeksailingassociation.org/event/bcsa-monthly-board-meeting-12/
LOCATION:North Alabama Sailing Marina\, 100 Browns Creek Rd\, Guntersville\, AL\, 35976\, United States
CATEGORIES:Master Calendar
END:VEVENT
BEGIN:VEVENT
DTSTART;TZID=America/Chicago:20251116T130000
DTEND;TZID=America/Chicago:20251116T180000
DTSTAMP:20260422T111016
CREATED:20250305T002002Z
LAST-MODIFIED:20250305T002002Z
UID:3957-1763298000-1763316000@brownscreeksailingassociation.org
SUMMARY:Frostbite 2025 Series Race #2
DESCRIPTION:Fleets Racing: Dinghy & Keelboat
URL:https://brownscreeksailingassociation.org/event/frostbite-2025-series-race-2/
LOCATION:North Alabama Sailing Marina\, 100 Browns Creek Rd\, Guntersville\, AL\, 35976\, United States
CATEGORIES:Master Calendar,Race Calendar
END:VEVENT
BEGIN:VEVENT
DTSTART;TZID=America/Chicago:20251102T130000
DTEND;TZID=America/Chicago:20251102T180000
DTSTAMP:20260422T111016
CREATED:20250305T002002Z
LAST-MODIFIED:20250305T002002Z
UID:3956-1762088400-1762106400@brownscreeksailingassociation.org
SUMMARY:Frostbite 2025 Series Race #1
DESCRIPTION:Fleets Racing: Dinghy & Keelboat
URL:https://brownscreeksailingassociation.org/event/frostbite-2025-series-race-1/
LOCATION:North Alabama Sailing Marina\, 100 Browns Creek Rd\, Guntersville\, AL\, 35976\, United States
CATEGORIES:Master Calendar,Race Calendar
END:VEVENT
BEGIN:VEVENT
DTSTART;TZID=America/Chicago:20251018T150000
DTEND;TZID=America/Chicago:20251018T180000
DTSTAMP:20260422T111016
CREATED:20250305T001947Z
LAST-MODIFIED:20250305T001947Z
UID:3955-1760799600-1760810400@brownscreeksailingassociation.org
SUMMARY:Fall Series Race #10
DESCRIPTION:Link: https://brownscreeksailingassociation.org/fall-series-nor-2025/
URL:https://brownscreeksailingassociation.org/event/fall-series-race-10-2/
LOCATION:North Alabama Sailing Marina\, 100 Browns Creek Rd\, Guntersville\, AL\, 35976\, United States
CATEGORIES:Master Calendar,Race Calendar
END:VEVENT
BEGIN:VEVENT
DTSTART;TZID=America/Chicago:20251011T100000
DTEND;TZID=America/Chicago:20251012T180000
DTSTAMP:20260422T111016
CREATED:20250305T001947Z
LAST-MODIFIED:20250305T001947Z
UID:3954-1760176800-1760292000@brownscreeksailingassociation.org
SUMMARY:Great River Race
DESCRIPTION:Link: https://brownscreeksailingassociation.org/great-river-race/
URL:https://brownscreeksailingassociation.org/event/great-river-race-4/
LOCATION:North Alabama Sailing Marina\, 100 Browns Creek Rd\, Guntersville\, AL\, 35976\, United States
CATEGORIES:Cruise Calendar,Master Calendar,Race Calendar
END:VEVENT
BEGIN:VEVENT
DTSTART;TZID=America/Chicago:20251005T150000
DTEND;TZID=America/Chicago:20251005T180000
DTSTAMP:20260422T111016
CREATED:20250305T001947Z
LAST-MODIFIED:20250305T001947Z
UID:3953-1759676400-1759687200@brownscreeksailingassociation.org
SUMMARY:Fall Series Race #9
DESCRIPTION:Link: https://brownscreeksailingassociation.org/fall-series-nor-2025/
URL:https://brownscreeksailingassociation.org/event/fall-series-race-9-3/
LOCATION:North Alabama Sailing Marina\, 100 Browns Creek Rd\, Guntersville\, AL\, 35976\, United States
CATEGORIES:Master Calendar,Race Calendar
END:VEVENT
BEGIN:VEVENT
DTSTART;TZID=America/Chicago:20250921T150000
DTEND;TZID=America/Chicago:20250921T180000
DTSTAMP:20260422T111016
CREATED:20250305T001947Z
LAST-MODIFIED:20250305T001947Z
UID:3952-1758466800-1758477600@brownscreeksailingassociation.org
SUMMARY:Fall Series Race #8
DESCRIPTION:Link: https://brownscreeksailingassociation.org/fall-series-nor-2025/
URL:https://brownscreeksailingassociation.org/event/fall-series-race-8-2/
LOCATION:North Alabama Sailing Marina\, 100 Browns Creek Rd\, Guntersville\, AL\, 35976\, United States
CATEGORIES:Master Calendar,Race Calendar
END:VEVENT
BEGIN:VEVENT
DTSTART;TZID=America/Chicago:20250914T150000
DTEND;TZID=America/Chicago:20250914T180000
DTSTAMP:20260422T111016
CREATED:20250305T001947Z
LAST-MODIFIED:20250305T001947Z
UID:3951-1757862000-1757872800@brownscreeksailingassociation.org
SUMMARY:Fall Series Race #7
DESCRIPTION:Link: https://brownscreeksailingassociation.org/fall-series-nor-2025/
URL:https://brownscreeksailingassociation.org/event/fall-series-race-7/
LOCATION:North Alabama Sailing Marina\, 100 Browns Creek Rd\, Guntersville\, AL\, 35976\, United States
CATEGORIES:Master Calendar,Race Calendar
END:VEVENT
BEGIN:VEVENT
DTSTART;TZID=America/Chicago:20250906T150000
DTEND;TZID=America/Chicago:20250906T180000
DTSTAMP:20260422T111016
CREATED:20250305T001932Z
LAST-MODIFIED:20250305T001932Z
UID:3950-1757170800-1757181600@brownscreeksailingassociation.org
SUMMARY:Fall Series Race #6
DESCRIPTION:Link: https://brownscreeksailingassociation.org/fall-series-nor-2025/
URL:https://brownscreeksailingassociation.org/event/fall-series-race-6-2/
LOCATION:North Alabama Sailing Marina\, 100 Browns Creek Rd\, Guntersville\, AL\, 35976\, United States
CATEGORIES:Master Calendar,Race Calendar
END:VEVENT
BEGIN:VEVENT
DTSTART;TZID=America/Chicago:20250904T183000
DTEND;TZID=America/Chicago:20250904T193000
DTSTAMP:20260422T111016
CREATED:20241217T124533Z
LAST-MODIFIED:20241217T124533Z
UID:3626-1757010600-1757014200@brownscreeksailingassociation.org
SUMMARY:BCSA Monthly Board Meeting
DESCRIPTION:The BCSA Board is meeting the first Thursday of every month at 6:30 pm. \nAny of the membership is welcome to join in person at the clubhouse or via zoom. \nIf you would like to get the zoom link contact Chris Edwards.
URL:https://brownscreeksailingassociation.org/event/bcsa-monthly-board-meeting-9/
LOCATION:North Alabama Sailing Marina\, 100 Browns Creek Rd\, Guntersville\, AL\, 35976\, United States
CATEGORIES:Master Calendar
END:VEVENT
BEGIN:VEVENT
DTSTART;TZID=America/Chicago:20250831T150000
DTEND;TZID=America/Chicago:20250831T180000
DTSTAMP:20260422T111016
CREATED:20250305T001932Z
LAST-MODIFIED:20250305T001932Z
UID:3949-1756652400-1756663200@brownscreeksailingassociation.org
SUMMARY:Fall Series Race #5
DESCRIPTION:Link: https://brownscreeksailingassociation.org/fall-series-nor-2025/
URL:https://brownscreeksailingassociation.org/event/fall-series-race-5-2/
LOCATION:North Alabama Sailing Marina\, 100 Browns Creek Rd\, Guntersville\, AL\, 35976\, United States
CATEGORIES:Master Calendar,Race Calendar
END:VEVENT
BEGIN:VEVENT
DTSTART;TZID=America/Chicago:20250823T150000
DTEND;TZID=America/Chicago:20250823T180000
DTSTAMP:20260422T111016
CREATED:20250305T001932Z
LAST-MODIFIED:20250811T212300Z
UID:3948-1755961200-1755972000@brownscreeksailingassociation.org
SUMMARY:Fall Series Race #4
DESCRIPTION:Link: https://brownscreeksailingassociation.org/fall-series-nor-2025/
URL:https://brownscreeksailingassociation.org/event/fall-series-race-4-2/
LOCATION:North Alabama Sailing Marina\, 100 Browns Creek Rd\, Guntersville\, AL\, 35976\, United States
CATEGORIES:Master Calendar,Race Calendar
ATTACH;FMTTYPE=image/png:https://brownscreeksailingassociation.org/wp-content/uploads/2024/08/Fall-Series.png
END:VEVENT
BEGIN:VEVENT
DTSTART;TZID=America/Chicago:20250810T150000
DTEND;TZID=America/Chicago:20250810T180000
DTSTAMP:20260422T111016
CREATED:20250305T001932Z
LAST-MODIFIED:20250305T001932Z
UID:3947-1754838000-1754848800@brownscreeksailingassociation.org
SUMMARY:Fall Series Race #3
DESCRIPTION:Link: https://brownscreeksailingassociation.org/fall-series-nor-2025/
URL:https://brownscreeksailingassociation.org/event/fall-series-race-3-2/
LOCATION:North Alabama Sailing Marina\, 100 Browns Creek Rd\, Guntersville\, AL\, 35976\, United States
CATEGORIES:Master Calendar,Race Calendar
END:VEVENT
BEGIN:VEVENT
DTSTART;TZID=America/Chicago:20250807T183000
DTEND;TZID=America/Chicago:20250807T193000
DTSTAMP:20260422T111016
CREATED:20241217T124514Z
LAST-MODIFIED:20241217T124514Z
UID:3624-1754591400-1754595000@brownscreeksailingassociation.org
SUMMARY:BCSA Monthly Board Meeting
DESCRIPTION:The BCSA Board is meeting the first Thursday of every month at 6:30 pm. \nAny of the membership is welcome to join in person at the clubhouse or via zoom. \nIf you would like to get the zoom link contact Chris Edwards.
URL:https://brownscreeksailingassociation.org/event/bcsa-monthly-board-meeting-8/
LOCATION:North Alabama Sailing Marina\, 100 Browns Creek Rd\, Guntersville\, AL\, 35976\, United States
CATEGORIES:Master Calendar
END:VEVENT
BEGIN:VEVENT
DTSTART;TZID=America/Chicago:20250803T150000
DTEND;TZID=America/Chicago:20250803T180000
DTSTAMP:20260422T111016
CREATED:20250305T001932Z
LAST-MODIFIED:20250305T001932Z
UID:3946-1754233200-1754244000@brownscreeksailingassociation.org
SUMMARY:Fall Series Race #2
DESCRIPTION:Link: https://brownscreeksailingassociation.org/fall-series-nor-2025/
URL:https://brownscreeksailingassociation.org/event/fall-series-race-2-2/
LOCATION:North Alabama Sailing Marina\, 100 Browns Creek Rd\, Guntersville\, AL\, 35976\, United States
CATEGORIES:Master Calendar,Race Calendar
END:VEVENT
BEGIN:VEVENT
DTSTART;TZID=America/Chicago:20250727T150000
DTEND;TZID=America/Chicago:20250727T180000
DTSTAMP:20260422T111016
CREATED:20250305T001932Z
LAST-MODIFIED:20250305T001932Z
UID:3945-1753628400-1753639200@brownscreeksailingassociation.org
SUMMARY:Fall Series Race #1
DESCRIPTION:Link: https://brownscreeksailingassociation.org/fall-series-nor-2025/
URL:https://brownscreeksailingassociation.org/event/fall-series-race-1-2/
LOCATION:North Alabama Sailing Marina\, 100 Browns Creek Rd\, Guntersville\, AL\, 35976\, United States
CATEGORIES:Master Calendar,Race Calendar
END:VEVENT
BEGIN:VEVENT
DTSTART;TZID=America/Chicago:20250720T150000
DTEND;TZID=America/Chicago:20250720T180000
DTSTAMP:20260422T111016
CREATED:20250305T001932Z
LAST-MODIFIED:20250305T002637Z
UID:3944-1753023600-1753034400@brownscreeksailingassociation.org
SUMMARY:Spring Series Race #10
DESCRIPTION:Link: https://brownscreeksailingassociation.org/spring-series-nor-2025/
URL:https://brownscreeksailingassociation.org/event/spring-series-race-10-4/
LOCATION:North Alabama Sailing Marina\, 100 Browns Creek Rd\, Guntersville\, AL\, 35976\, United States
CATEGORIES:Master Calendar,Race Calendar
END:VEVENT
BEGIN:VEVENT
DTSTART;TZID=America/Chicago:20250713T150000
DTEND;TZID=America/Chicago:20250713T180000
DTSTAMP:20260422T111016
CREATED:20250305T001932Z
LAST-MODIFIED:20250305T002617Z
UID:3943-1752418800-1752429600@brownscreeksailingassociation.org
SUMMARY:Spring Series Race #9
DESCRIPTION:Link: https://brownscreeksailingassociation.org/spring-series-nor-2025/
URL:https://brownscreeksailingassociation.org/event/spring-series-race-9-4/
LOCATION:North Alabama Sailing Marina\, 100 Browns Creek Rd\, Guntersville\, AL\, 35976\, United States
CATEGORIES:Master Calendar,Race Calendar
END:VEVENT
BEGIN:VEVENT
DTSTART;TZID=America/Chicago:20250703T183000
DTEND;TZID=America/Chicago:20250703T193000
DTSTAMP:20260422T111016
CREATED:20241217T124449Z
LAST-MODIFIED:20241217T124449Z
UID:3622-1751567400-1751571000@brownscreeksailingassociation.org
SUMMARY:BCSA Monthly Board Meeting
DESCRIPTION:The BCSA Board is meeting the first Thursday of every month at 6:30 pm. \nAny of the membership is welcome to join in person at the clubhouse or via zoom. \nIf you would like to get the zoom link contact Chris Edwards.
URL:https://brownscreeksailingassociation.org/event/bcsa-monthly-board-meeting-7/
LOCATION:North Alabama Sailing Marina\, 100 Browns Creek Rd\, Guntersville\, AL\, 35976\, United States
CATEGORIES:Master Calendar
END:VEVENT
END:VCALENDAR