BEGIN:VCALENDAR
VERSION:2.0
PRODID:-//Browns Creek Sailing Association - ECPv6.15.20//NONSGML v1.0//EN
CALSCALE:GREGORIAN
METHOD:PUBLISH
X-ORIGINAL-URL:https://brownscreeksailingassociation.org
X-WR-CALDESC:Events for Browns Creek Sailing Association
REFRESH-INTERVAL;VALUE=DURATION:PT1H
X-Robots-Tag:noindex
X-PUBLISHED-TTL:PT1H
BEGIN:VTIMEZONE
TZID:America/Chicago
BEGIN:DAYLIGHT
TZOFFSETFROM:-0600
TZOFFSETTO:-0500
TZNAME:CDT
DTSTART:20240310T080000
END:DAYLIGHT
BEGIN:STANDARD
TZOFFSETFROM:-0500
TZOFFSETTO:-0600
TZNAME:CST
DTSTART:20241103T070000
END:STANDARD
BEGIN:DAYLIGHT
TZOFFSETFROM:-0600
TZOFFSETTO:-0500
TZNAME:CDT
DTSTART:20250309T080000
END:DAYLIGHT
BEGIN:STANDARD
TZOFFSETFROM:-0500
TZOFFSETTO:-0600
TZNAME:CST
DTSTART:20251102T070000
END:STANDARD
BEGIN:DAYLIGHT
TZOFFSETFROM:-0600
TZOFFSETTO:-0500
TZNAME:CDT
DTSTART:20260308T080000
END:DAYLIGHT
BEGIN:STANDARD
TZOFFSETFROM:-0500
TZOFFSETTO:-0600
TZNAME:CST
DTSTART:20261101T070000
END:STANDARD
END:VTIMEZONE
BEGIN:VEVENT
DTSTART;TZID=America/Chicago:20250525T120000
DTEND;TZID=America/Chicago:20250525T170000
DTSTAMP:20260423T010623
CREATED:20250513T141727Z
LAST-MODIFIED:20250513T142308Z
UID:4074-1748174400-1748192400@brownscreeksailingassociation.org
SUMMARY:Slip N slide
DESCRIPTION:Kids Day Bash: Slip ‘N Slide\, Hot Dogs & Memorial Weekend Fun! \nGet ready for a splash-tastic time! We’re throwing a Kids Day celebration and you’re invited to join the fun. Mark your calendars\, grab your towels\, and bring your appetites—this is one summer event you don’t want to miss. \n🎉 What’s Happening:We’ll be setting up a giant Slip ‘N Slide for the kids (and brave adults!) to beat the heat and have a blast. While the little ones slide\, sizzle\, and splash\, we’ll be grilling up hot dogs for everyone to enjoy. \n🍽 Bring a Side Dish:To make it a true community feast\, we’re asking each family to bring a side dishto share—chips\, salads\, fruit\, desserts\, you name it! \n📍 Location: Browns creek Sailing Marina📅 Date: Sunday May 25th⏰ Time: 12 noon \nDon’t forget sunscreen\, lawn chairs\, and a big smile! This is all about sunshine\, laughter\, and good old-fashioned summer fun. \nSee you there!
URL:https://brownscreeksailingassociation.org/event/slip-n-slide/
LOCATION:Browns Creek Sailing Association\, 100 Browns Creek Road\, Guntersville\, AL\, 35976
CATEGORIES:Master Calendar,Social Calendar
ATTACH;FMTTYPE=image/png:https://brownscreeksailingassociation.org/wp-content/uploads/2025/05/slide.png
ORGANIZER;CN="Jennifer Birckbichler":MAILTO:jabirckbichler@gmail.com
END:VEVENT
END:VCALENDAR