BEGIN:VCALENDAR
VERSION:2.0
PRODID:-//Browns Creek Sailing Association - ECPv6.15.20//NONSGML v1.0//EN
CALSCALE:GREGORIAN
METHOD:PUBLISH
X-ORIGINAL-URL:https://brownscreeksailingassociation.org
X-WR-CALDESC:Events for Browns Creek Sailing Association
REFRESH-INTERVAL;VALUE=DURATION:PT1H
X-Robots-Tag:noindex
X-PUBLISHED-TTL:PT1H
BEGIN:VTIMEZONE
TZID:America/Chicago
BEGIN:DAYLIGHT
TZOFFSETFROM:-0600
TZOFFSETTO:-0500
TZNAME:CDT
DTSTART:20240310T080000
END:DAYLIGHT
BEGIN:STANDARD
TZOFFSETFROM:-0500
TZOFFSETTO:-0600
TZNAME:CST
DTSTART:20241103T070000
END:STANDARD
BEGIN:DAYLIGHT
TZOFFSETFROM:-0600
TZOFFSETTO:-0500
TZNAME:CDT
DTSTART:20250309T080000
END:DAYLIGHT
BEGIN:STANDARD
TZOFFSETFROM:-0500
TZOFFSETTO:-0600
TZNAME:CST
DTSTART:20251102T070000
END:STANDARD
BEGIN:DAYLIGHT
TZOFFSETFROM:-0600
TZOFFSETTO:-0500
TZNAME:CDT
DTSTART:20260308T080000
END:DAYLIGHT
BEGIN:STANDARD
TZOFFSETFROM:-0500
TZOFFSETTO:-0600
TZNAME:CST
DTSTART:20261101T070000
END:STANDARD
END:VTIMEZONE
BEGIN:VEVENT
DTSTART;TZID=America/Chicago:20250621T180000
DTEND;TZID=America/Chicago:20250621T203000
DTSTAMP:20260422T233522
CREATED:20250610T005318Z
LAST-MODIFIED:20250610T011415Z
UID:4135-1750528800-1750537800@brownscreeksailingassociation.org
SUMMARY:⛵Hot Rudder Potluck Dinner⛵
DESCRIPTION:Join us on Saturday\, June 21st\, at 6:00 PM for a potluck dinner as we celebrate all the racers after their time on the water. Bring your favorite dish to share!\n\nPlease comment on your bringing on our Facebook event! Hot Rudder Potluck
URL:https://brownscreeksailingassociation.org/event/%e2%9b%b5hot-rudder-potluck-dinner%e2%9b%b5/
LOCATION:AL
CATEGORIES:Social Calendar
ORGANIZER;CN="Jennifer Birckbichler":MAILTO:jabirckbichler@gmail.com
END:VEVENT
END:VCALENDAR