BEGIN:VCALENDAR
VERSION:2.0
PRODID:-//Browns Creek Sailing Association - ECPv6.15.20//NONSGML v1.0//EN
CALSCALE:GREGORIAN
METHOD:PUBLISH
X-ORIGINAL-URL:https://brownscreeksailingassociation.org
X-WR-CALDESC:Events for Browns Creek Sailing Association
REFRESH-INTERVAL;VALUE=DURATION:PT1H
X-Robots-Tag:noindex
X-PUBLISHED-TTL:PT1H
BEGIN:VTIMEZONE
TZID:America/Chicago
BEGIN:DAYLIGHT
TZOFFSETFROM:-0600
TZOFFSETTO:-0500
TZNAME:CDT
DTSTART:20230312T080000
END:DAYLIGHT
BEGIN:STANDARD
TZOFFSETFROM:-0500
TZOFFSETTO:-0600
TZNAME:CST
DTSTART:20231105T070000
END:STANDARD
BEGIN:DAYLIGHT
TZOFFSETFROM:-0600
TZOFFSETTO:-0500
TZNAME:CDT
DTSTART:20240310T080000
END:DAYLIGHT
BEGIN:STANDARD
TZOFFSETFROM:-0500
TZOFFSETTO:-0600
TZNAME:CST
DTSTART:20241103T070000
END:STANDARD
BEGIN:DAYLIGHT
TZOFFSETFROM:-0600
TZOFFSETTO:-0500
TZNAME:CDT
DTSTART:20250309T080000
END:DAYLIGHT
BEGIN:STANDARD
TZOFFSETFROM:-0500
TZOFFSETTO:-0600
TZNAME:CST
DTSTART:20251102T070000
END:STANDARD
END:VTIMEZONE
BEGIN:VEVENT
DTSTART;TZID=America/Chicago:20241108T080000
DTEND;TZID=America/Chicago:20241108T173000
DTSTAMP:20260423T105901
CREATED:20241008T000001Z
LAST-MODIFIED:20241008T000001Z
UID:3537-1731052800-1731087000@brownscreeksailingassociation.org
SUMMARY:Annual Dinner 2024
DESCRIPTION:Join us for Our Annual Dinner!\nFriday\, November 8th \nWe are excited to invite you to our Annual Dinner on Friday\, November 8th! The evening will begin with a cocktail hour at 5:30 pm (BYOB)\, followed by dinner at 6:00 pm. The event will be held in a spacious tent at 100 Browns Creek Rd. \nThis special evening will feature the inauguration of our newly elected officers for the upcoming season\, and you’ll have the chance to win exciting awards and door prizes! \nDinner will be catered by La Esquina Cocina\, offering a mouth-watering menu featuring Pork Al Pastor and Pollo Al Pastor\, served with traditional rice and beans. Chips with salsa and queso dip will be available to enjoy before the main course. \nTickets are $25 per person\, so come and enjoy an evening of great food\, camaraderie\, and celebration of the season ahead! \nPlease RSVP as soon as possible: \n\n\n\n	\n	\n		$25.00  x 1	\n	\n		\n\n\n\n	\n\n	\n		\n			\n			\n				Annual Dinner 2024 – RSVP Dinner \n				\n					\n						\n					\n				\n			\n						\n\n\n	\n		\n			\n			\n			\n			\n		\n	\n\n	\n					\n			Quantity:\n			\n				\n					−\n				\n				\n				\n					+\n				\n			\n			\n		\n	\n	\n	\n			\n\n		\n			\n				First Name\n				\n				\n			\n\n			\n				Last Name\n				\n				\n			\n\n			\n				Email\n				\n				\n			\n		\n			\n\n	\n\n		\n		\n					\n				$25.00  x 1			\n		\n		\n										\n				\n						\n						\n				\n				Place Order			\n		\n\n        \n        \n                        \n            \n            \n                    \n        \n            This is where the Express Checkout Button will show. View it on the front-end to see how it will look to your visitors\n        \n	\n\n\n		\n	\n\n\n\n	RSVP Dinner
URL:https://brownscreeksailingassociation.org/event/annual-dinner-2024/
LOCATION:AL
CATEGORIES:Master Calendar,Social Calendar
ATTACH;FMTTYPE=image/webp:https://brownscreeksailingassociation.org/wp-content/uploads/2024/10/annualdinnner.webp
END:VEVENT
END:VCALENDAR