BEGIN:VCALENDAR
VERSION:2.0
PRODID:-//Browns Creek Sailing Association - ECPv6.15.20//NONSGML v1.0//EN
CALSCALE:GREGORIAN
METHOD:PUBLISH
X-ORIGINAL-URL:https://brownscreeksailingassociation.org
X-WR-CALDESC:Events for Browns Creek Sailing Association
REFRESH-INTERVAL;VALUE=DURATION:PT1H
X-Robots-Tag:noindex
X-PUBLISHED-TTL:PT1H
BEGIN:VTIMEZONE
TZID:America/Chicago
BEGIN:DAYLIGHT
TZOFFSETFROM:-0600
TZOFFSETTO:-0500
TZNAME:CDT
DTSTART:20240310T080000
END:DAYLIGHT
BEGIN:STANDARD
TZOFFSETFROM:-0500
TZOFFSETTO:-0600
TZNAME:CST
DTSTART:20241103T070000
END:STANDARD
BEGIN:DAYLIGHT
TZOFFSETFROM:-0600
TZOFFSETTO:-0500
TZNAME:CDT
DTSTART:20250309T080000
END:DAYLIGHT
BEGIN:STANDARD
TZOFFSETFROM:-0500
TZOFFSETTO:-0600
TZNAME:CST
DTSTART:20251102T070000
END:STANDARD
BEGIN:DAYLIGHT
TZOFFSETFROM:-0600
TZOFFSETTO:-0500
TZNAME:CDT
DTSTART:20260308T080000
END:DAYLIGHT
BEGIN:STANDARD
TZOFFSETFROM:-0500
TZOFFSETTO:-0600
TZNAME:CST
DTSTART:20261101T070000
END:STANDARD
END:VTIMEZONE
BEGIN:VEVENT
DTSTART;TZID=America/Chicago:20250712T140000
DTEND;TZID=America/Chicago:20250712T210000
DTSTAMP:20260422T233838
CREATED:20250622T131407Z
LAST-MODIFIED:20250622T153203Z
UID:4172-1752328800-1752354000@brownscreeksailingassociation.org
SUMMARY:🦐Shrimp Boil & Walk the Dock!🦐
DESCRIPTION:Join us on July 12th for an exciting day of Walk the Dock and a Shrimp Boil! Starting at 2 PM\, showcase your boat during Walk the Dock—get creative with decorations\, make it lively\, and consider offering a snack or a shot to visitors. Afterward\, head to the clubhouse for a delicious shrimp boil beginning at 5 PM. The cost is $15 per person. Be sure to RSVP as soon as possible! \nPay for your Shrimp Boil Here!  Pay Here
URL:https://brownscreeksailingassociation.org/event/%f0%9f%a6%90shrimp-boil-walk-the-dock%f0%9f%a6%90/
LOCATION:Browns Creek Sailing Association\, 100 Browns Creek Road\, Guntersville\, AL\, 35976
CATEGORIES:Social Calendar
ORGANIZER;CN="Jennifer Birckbichler":MAILTO:jabirckbichler@gmail.com
END:VEVENT
END:VCALENDAR