BEGIN:VCALENDAR
VERSION:2.0
PRODID:-//Browns Creek Sailing Association - ECPv6.15.20//NONSGML v1.0//EN
CALSCALE:GREGORIAN
METHOD:PUBLISH
X-WR-CALNAME:Browns Creek Sailing Association
X-ORIGINAL-URL:https://brownscreeksailingassociation.org
X-WR-CALDESC:Events for Browns Creek Sailing Association
REFRESH-INTERVAL;VALUE=DURATION:PT1H
X-Robots-Tag:noindex
X-PUBLISHED-TTL:PT1H
BEGIN:VTIMEZONE
TZID:America/Chicago
BEGIN:DAYLIGHT
TZOFFSETFROM:-0600
TZOFFSETTO:-0500
TZNAME:CDT
DTSTART:20240310T080000
END:DAYLIGHT
BEGIN:STANDARD
TZOFFSETFROM:-0500
TZOFFSETTO:-0600
TZNAME:CST
DTSTART:20241103T070000
END:STANDARD
BEGIN:DAYLIGHT
TZOFFSETFROM:-0600
TZOFFSETTO:-0500
TZNAME:CDT
DTSTART:20250309T080000
END:DAYLIGHT
BEGIN:STANDARD
TZOFFSETFROM:-0500
TZOFFSETTO:-0600
TZNAME:CST
DTSTART:20251102T070000
END:STANDARD
BEGIN:DAYLIGHT
TZOFFSETFROM:-0600
TZOFFSETTO:-0500
TZNAME:CDT
DTSTART:20260308T080000
END:DAYLIGHT
BEGIN:STANDARD
TZOFFSETFROM:-0500
TZOFFSETTO:-0600
TZNAME:CST
DTSTART:20261101T070000
END:STANDARD
END:VTIMEZONE
BEGIN:VEVENT
DTSTART;TZID=America/Chicago:20251108T170000
DTEND;TZID=America/Chicago:20251108T233000
DTSTAMP:20260422T174354
CREATED:20250923T154323Z
LAST-MODIFIED:20251003T015617Z
UID:4315-1762621200-1762644600@brownscreeksailingassociation.org
SUMMARY:Annual Dinner
DESCRIPTION:Annual Dinner & Officer Elections – November 8th\nMark your calendars for our much-anticipated Annual Dinner on Saturday\, November 8th! This evening promises wonderful food\, great company\, and plenty of fun as we gather together to celebrate another fantastic year. \nWe’ll gather at Browns Creek in the tent with cocktails starting around 5:00 pm (BYOB)\, followed by dinner with food ready at 6:00 pm. \nThis year’s menu will be catered by Rock House Eatery\, featuring a delicious spread: \n\nPork tenderloin with apricot rosemary glaze\nMashed potato bar\nCreamy mac and cheese\nGrilled Blue Lake green beans with mushrooms\, shallots\, and bacon\nFresh garden salad\nWarm rolls\nCheesecake topped with assorted berries\nTea and water\n\nCost is $25 per person. Please RSVP by November 3rd to reserve your spot. \nIn addition to a fantastic dinner\, we will also be electing our upcoming officers for the next year. This is an important time for our community\, so we encourage everyone to attend and take part in the evening. \nIt’s sure to be a night filled with laughter\, friendship\, and amazing food. Don’t miss this special evening together—we look forward to seeing everyone there! \nPay Here
URL:https://brownscreeksailingassociation.org/event/annual-dinner/
LOCATION:Browns Creek Sailing Association\, 100 Browns Creek Road\, Guntersville\, AL\, 35976
CATEGORIES:Social Calendar
ORGANIZER;CN="Jennifer Birckbichler":MAILTO:jabirckbichler@gmail.com
END:VEVENT
END:VCALENDAR